BEGIN:VCALENDAR
VERSION:2.0
PRODID:-//Plone.org//NONSGML plone.app.event//EN
X-WR-TIMEZONE:Brazil/East
BEGIN:VEVENT
SUMMARY:Sessão Ordinária
DTSTART;TZID=Brazil/East;VALUE=DATE-TIME:20170913T200000
DTEND;TZID=Brazil/East;VALUE=DATE-TIME:20170913T210000
DTSTAMP;VALUE=DATE-TIME:20260425T083538Z
UID:4d1183dffa264c9abd1a20a13103c03c@www.peixe.to.leg.br
CREATED;VALUE=DATE-TIME:20171018T111307Z
LAST-MODIFIED;VALUE=DATE-TIME:20171018T111311Z
LOCATION:Auditório Uiatan Cavalcante - Anexo à Câmara
URL:https://www.peixe.to.leg.br/b-imag/intranet/calendario-mensal/2017/ses
 soes-do-mes-de-setembro-2017/sessao-ordinaria
END:VEVENT
BEGIN:VTIMEZONE
TZID:Brazil/East
X-LIC-LOCATION:Brazil/East
BEGIN:STANDARD
DTSTART;VALUE=DATE-TIME:20170218T230000
TZNAME:BRT
TZOFFSETFROM:-0200
TZOFFSETTO:-0300
END:STANDARD
END:VTIMEZONE
END:VCALENDAR
