BEGIN:VCALENDAR
VERSION:2.0
PRODID:-//Plone.org//NONSGML plone.app.event//EN
X-WR-TIMEZONE:Brazil/East
BEGIN:VEVENT
SUMMARY:Sessão Ordinária
DTSTART;TZID=Brazil/East;VALUE=DATE-TIME:20170921T200000
DTEND;TZID=Brazil/East;VALUE=DATE-TIME:20170921T210000
DTSTAMP;VALUE=DATE-TIME:20260425T083538Z
UID:1746f63dbc004d498f00eed8cb8b4402@www.peixe.to.leg.br
CREATED;VALUE=DATE-TIME:20171018T111555Z
LAST-MODIFIED;VALUE=DATE-TIME:20171018T111558Z
LOCATION:Auditório Uiatan Cavalcante - Anexo à Câmara
URL:https://www.peixe.to.leg.br/b-imag/intranet/calendario-mensal/2017/ses
 soes-do-mes-de-setembro-2017/sessao-ordinaria-4
END:VEVENT
BEGIN:VTIMEZONE
TZID:Brazil/East
X-LIC-LOCATION:Brazil/East
BEGIN:STANDARD
DTSTART;VALUE=DATE-TIME:20170218T230000
TZNAME:BRT
TZOFFSETFROM:-0200
TZOFFSETTO:-0300
END:STANDARD
END:VTIMEZONE
END:VCALENDAR
