BEGIN:VCALENDAR
VERSION:2.0
PRODID:-//Plone.org//NONSGML plone.app.event//EN
X-WR-TIMEZONE:Brazil/East
BEGIN:VEVENT
SUMMARY:Sessão Ordinária
DTSTART;TZID=Brazil/East;VALUE=DATE-TIME:20171027T200000
DTEND;TZID=Brazil/East;VALUE=DATE-TIME:20171027T210000
DTSTAMP;VALUE=DATE-TIME:20260425T114417Z
UID:59fc275e421345e29751d24ef751eab3@www.peixe.to.leg.br
CREATED;VALUE=DATE-TIME:20171018T110830Z
LAST-MODIFIED;VALUE=DATE-TIME:20171018T110834Z
LOCATION:Auditório Uiatan Cavalcante - Anexo à Câmara
URL:https://www.peixe.to.leg.br/b-imag/intranet/calendario-mensal/2017/ses
 soes-do-mes-de-outubro-2017/sessao-ordinaria-4
END:VEVENT
BEGIN:VTIMEZONE
TZID:Brazil/East
X-LIC-LOCATION:Brazil/East
BEGIN:DAYLIGHT
DTSTART;VALUE=DATE-TIME:20171015T010000
TZNAME:BRST
TZOFFSETFROM:-0300
TZOFFSETTO:-0200
END:DAYLIGHT
END:VTIMEZONE
END:VCALENDAR
