BEGIN:VCALENDAR
VERSION:2.0
PRODID:-//Plone.org//NONSGML plone.app.event//EN
X-WR-TIMEZONE:Brazil/East
BEGIN:VEVENT
SUMMARY:Sessão Ordinária
DTSTART;TZID=Brazil/East;VALUE=DATE-TIME:20170522T200000
DTEND;TZID=Brazil/East;VALUE=DATE-TIME:20170522T210000
DTSTAMP;VALUE=DATE-TIME:20260425T123610Z
UID:0bd20b99121748538e3f6fcdcb0c5fb9@www.peixe.to.leg.br
CREATED;VALUE=DATE-TIME:20170503T140435Z
LAST-MODIFIED;VALUE=DATE-TIME:20170522T133730Z
LOCATION:Plenário da Câmara
URL:https://www.peixe.to.leg.br/b-imag/intranet/calendario-mensal/2017/ses
 soes-do-mes-de-maio-2017/sessao-ordinaria-2
END:VEVENT
BEGIN:VTIMEZONE
TZID:Brazil/East
X-LIC-LOCATION:Brazil/East
BEGIN:STANDARD
DTSTART;VALUE=DATE-TIME:20170218T230000
TZNAME:BRT
TZOFFSETFROM:-0200
TZOFFSETTO:-0300
END:STANDARD
END:VTIMEZONE
END:VCALENDAR
