BEGIN:VCALENDAR
VERSION:2.0
PRODID:-//Plone.org//NONSGML plone.app.event//EN
X-WR-TIMEZONE:Brazil/East
BEGIN:VEVENT
SUMMARY:Sessão Ordinária
DTSTART;TZID=Brazil/East;VALUE=DATE-TIME:20170830T200000
DTEND;TZID=Brazil/East;VALUE=DATE-TIME:20170830T210000
DTSTAMP;VALUE=DATE-TIME:20260425T123739Z
UID:b1e1d508a62b432184262200c9b1ce24@www.peixe.to.leg.br
CREATED;VALUE=DATE-TIME:20170804T162659Z
LAST-MODIFIED;VALUE=DATE-TIME:20170823T023621Z
LOCATION:Auditório Uiatan Cavalcante - Anexo Câmara
URL:https://www.peixe.to.leg.br/b-imag/intranet/calendario-mensal/2017/ses
 soes-do-mes-de-agosto-2017/sessao-ordinaria-3
END:VEVENT
BEGIN:VTIMEZONE
TZID:Brazil/East
X-LIC-LOCATION:Brazil/East
BEGIN:STANDARD
DTSTART;VALUE=DATE-TIME:20170218T230000
TZNAME:BRT
TZOFFSETFROM:-0200
TZOFFSETTO:-0300
END:STANDARD
END:VTIMEZONE
END:VCALENDAR
